BEGIN:VCALENDAR
VERSION:2.0
PRODID:-//ExpressionEngine Easy iCalendar plugin//NONSGML v2.0.1//EN
X-WR-TIMEZONE:America/New_York
X-WR-CALNAME:Upcoming Auctions
BEGIN:VEVENT
UID:82418
DTSTAMP:20220606T000000
DTSTART:20220606T000000
DTEND:20220614T180000
SUMMARY:RETURNED ITEMS AND DAMAGED BOX ONLINE ONLY AUCTION!
LOCATION:6821 Central Ave\, Toledo\, OH 43617\, US
DESCRIPTION:ITEMS STILL IN BOX!
URL:https://www.amlinauctions.com/auctions/detail/bw82418
SEQUENCE:1
END:VEVENT
END:VCALENDAR