BEGIN:VCALENDAR
VERSION:2.0
PRODID:-//ExpressionEngine Easy iCalendar plugin//NONSGML v2.0.1//EN
X-WR-TIMEZONE:America/New_York
X-WR-CALNAME:Upcoming Auctions
BEGIN:VEVENT
UID:71981
DTSTAMP:20211117T173000
DTSTART:20211117T173000
DTEND:20211117T183000
SUMMARY:MINIMUM BID AUCTION $69\,000! 3401 Mapleway Dr
LOCATION:3401 Mapleway Dr\, Toledo\, OH 43614\, US
DESCRIPTION:Cute home in a great location!
URL:https://www.amlinauctions.com/auctions/detail/bw71981
SEQUENCE:1
END:VEVENT
END:VCALENDAR