BEGIN:VCALENDAR
VERSION:2.0
PRODID:-//ExpressionEngine Easy iCalendar plugin//NONSGML v2.0.0//EN
X-WR-TIMEZONE:America/New_York
X-WR-CALNAME:Upcoming Auctions
BEGIN:VEVENT
UID:160838
DTSTAMP:20260521T160000
DTSTART:20260521T160000
DTEND:20260521T170000
SUMMARY:MINIMUM BID AUCTION $150\,000! 4705 W Bancroft St
LOCATION:4705 W Bancroft St\, Toledo\, OH 43615\, US
DESCRIPTION:Large home in a great location!
URL:https://www.amlinauctions.com/auctions/detail/bw160838
SEQUENCE:1
END:VEVENT
END:VCALENDAR