BEGIN:VCALENDAR
VERSION:2.0
PRODID:-//ExpressionEngine Easy iCalendar plugin//NONSGML v2.0.1//EN
X-WR-TIMEZONE:America/New_York
X-WR-CALNAME:Upcoming Auctions
BEGIN:VEVENT
UID:160827
DTSTAMP:20260421T120000
DTSTART:20260421T120000
DTEND:20260511T180000
SUMMARY:PRATT FAMILY FARMS TOOLS AND HOUSEHOLD ITEMS ONLINE ONLY AUC
 TION
LOCATION:25810 Hull Prairie Rd\, Perrysburg\, OH 43551\, US
DESCRIPTION:Bidding will end on Monday\, May 11th at 6:00PM.  
URL:https://www.amlinauctions.com/auctions/detail/bw160827
SEQUENCE:1
END:VEVENT
END:VCALENDAR