BEGIN:VCALENDAR
VERSION:2.0
PRODID:-//ExpressionEngine Easy iCalendar plugin//NONSGML v2.0.1//EN
X-WR-TIMEZONE:America/New_York
X-WR-CALNAME:Upcoming Auctions
BEGIN:VEVENT
UID:155587
DTSTAMP:20260120T120000
DTSTART:20260120T120000
DTEND:20260126T180000
SUMMARY:HARLEY\, TOOLS AND HOUSEHOLD ITEMS ONLINE ONLY AUCTION
LOCATION:1703 Glennross Blvd\, Oregon\, OH 43616\, US
DESCRIPTION:Bidding will end on Monday\, January 26th at 6:00PM.
URL:https://www.amlinauctions.com/auctions/detail/bw155587
SEQUENCE:1
END:VEVENT
END:VCALENDAR