BEGIN:VCALENDAR
VERSION:2.0
PRODID:-//ExpressionEngine Easy iCalendar plugin//NONSGML v2.0.1//EN
X-WR-TIMEZONE:America/New_York
X-WR-CALNAME:Upcoming Auctions
BEGIN:VEVENT
UID:154898
DTSTAMP:20260212T160000
DTSTART:20260212T160000
DTEND:20260212T170000
SUMMARY:MINIMUM BID AUCTION $79\,000! 4138 Thornton
LOCATION:4138 Thornton Ave\, Toledo\, OH 43612\, US
DESCRIPTION:Investment Opportunity!
URL:https://www.amlinauctions.com/auctions/detail/bw154898
SEQUENCE:1
END:VEVENT
END:VCALENDAR