BEGIN:VCALENDAR
VERSION:2.0
PRODID:-//ExpressionEngine Easy iCalendar plugin//NONSGML v2.0.1//EN
X-WR-TIMEZONE:America/New_York
X-WR-CALNAME:Upcoming Auctions
BEGIN:VEVENT
UID:154543
DTSTAMP:20260205T160000
DTSTART:20260205T160000
DTEND:20260205T170000
SUMMARY:MINIMUM BID AUCTION $50\,000! 5831 Meade Rd
LOCATION:5831 Meade Rd\, Sylvania\, OH 43560\, US
DESCRIPTION:Large lot in Sylvania Schools!
URL:https://www.amlinauctions.com/auctions/detail/bw154543
SEQUENCE:1
END:VEVENT
END:VCALENDAR