BEGIN:VCALENDAR
VERSION:2.0
PRODID:-//ExpressionEngine Easy iCalendar plugin//NONSGML v2.0.1//EN
X-WR-TIMEZONE:America/New_York
X-WR-CALNAME:Upcoming Auctions
BEGIN:VEVENT
UID:152422
DTSTAMP:20251211T150000
DTSTART:20251211T150000
DTEND:20251211T160000
SUMMARY:MINIMUM BID AUCTION $29\,000! 1431 Moore St
LOCATION:1431 Moore St\, Toledo\, OH 43608\, US
DESCRIPTION:Investment Opportunity!
URL:https://www.amlinauctions.com/auctions/detail/bw152422
SEQUENCE:1
END:VEVENT
END:VCALENDAR