BEGIN:VCALENDAR
VERSION:2.0
PRODID:-//ExpressionEngine Easy iCalendar plugin//NONSGML v2.0.1//EN
X-WR-TIMEZONE:America/New_York
X-WR-CALNAME:Upcoming Auctions
BEGIN:VEVENT
UID:151842
DTSTAMP:20251208T150000
DTSTART:20251208T150000
DTEND:20251208T160000
SUMMARY:SOLD PRIOR TO AUCTION! 3626 Hazelhurst Ave
LOCATION:3626 Hazelhurst Ave\, Toledo\, OH 43612\, US
DESCRIPTION:SOLD PRIOR TO AUCTION! 
URL:https://www.amlinauctions.com/auctions/detail/bw151842
SEQUENCE:1
END:VEVENT
END:VCALENDAR