BEGIN:VCALENDAR
VERSION:2.0
PRODID:-//ExpressionEngine Easy iCalendar plugin//NONSGML v2.0.1//EN
X-WR-TIMEZONE:America/New_York
X-WR-CALNAME:Upcoming Auctions
BEGIN:VEVENT
UID:151787
DTSTAMP:20251210T160000
DTSTART:20251210T160000
DTEND:20251210T170000
SUMMARY:MINIMUM BID AUCTION $70\,000! 227 Wabash St
LOCATION:227 Wabash ST\, Wauseon\, OH 43567\, US
DESCRIPTION:2-bedroom home! 
URL:https://www.amlinauctions.com/auctions/detail/bw151787
SEQUENCE:1
END:VEVENT
END:VCALENDAR