BEGIN:VCALENDAR
VERSION:2.0
PRODID:-//ExpressionEngine Easy iCalendar plugin//NONSGML v2.0.1//EN
X-WR-TIMEZONE:America/New_York
X-WR-CALNAME:Upcoming Auctions
BEGIN:VEVENT
UID:151699
DTSTAMP:20251204T150000
DTSTART:20251204T150000
DTEND:20251204T160000
SUMMARY:MINIMUM BID AUCTION $49\,000! 611 S. Monroe St.
LOCATION:611 S. Monroe St. \, Monroe\, MI 48161\, US
DESCRIPTION:Multi-use property! 
URL:https://www.amlinauctions.com/auctions/detail/bw151699
SEQUENCE:1
END:VEVENT
END:VCALENDAR