BEGIN:VCALENDAR
VERSION:2.0
PRODID:-//ExpressionEngine Easy iCalendar plugin//NONSGML v2.0.1//EN
X-WR-TIMEZONE:America/New_York
X-WR-CALNAME:Upcoming Auctions
BEGIN:VEVENT
UID:151579
DTSTAMP:20251119T110000
DTSTART:20251119T110000
DTEND:20251119T120000
SUMMARY:Multi Location Storage Auctions!
LOCATION:2704 Centennial Rd\, Sylvania\, OH 43617\, US
DESCRIPTION:4 Locations! 
URL:https://www.amlinauctions.com/auctions/detail/bw151579
SEQUENCE:1
END:VEVENT
END:VCALENDAR