BEGIN:VCALENDAR
VERSION:2.0
PRODID:-//ExpressionEngine Easy iCalendar plugin//NONSGML v2.0.1//EN
X-WR-TIMEZONE:America/New_York
X-WR-CALNAME:Upcoming Auctions
BEGIN:VEVENT
UID:151505
DTSTAMP:20251125T150000
DTSTART:20251125T150000
DTEND:20251125T160000
SUMMARY:MINIMUM BID AUCTION $29\,000! 4419 Lewis Ave
LOCATION:4419 Lewis Ave\, Toledo\, OH 43612\, US
DESCRIPTION:2-bedroom ranch! 
URL:https://www.amlinauctions.com/auctions/detail/bw151505
SEQUENCE:1
END:VEVENT
END:VCALENDAR