BEGIN:VCALENDAR
VERSION:2.0
PRODID:-//ExpressionEngine Easy iCalendar plugin//NONSGML v2.0.1//EN
X-WR-TIMEZONE:America/New_York
X-WR-CALNAME:Upcoming Auctions
BEGIN:VEVENT
UID:151315
DTSTAMP:20251120T170000
DTSTART:20251120T170000
DTEND:20251120T180000
SUMMARY:SOLD PRIOR TO AUCTION! 8237 Lewis Ave
LOCATION:8237 Lewis Ave\, Temperance \, MI 48182\, US
DESCRIPTION:SOLD PRIOR TO AUCTION!
URL:https://www.amlinauctions.com/auctions/detail/bw151315
SEQUENCE:1
END:VEVENT
END:VCALENDAR