BEGIN:VCALENDAR
VERSION:2.0
PRODID:-//ExpressionEngine Easy iCalendar plugin//NONSGML v2.0.1//EN
X-WR-TIMEZONE:America/New_York
X-WR-CALNAME:Upcoming Auctions
BEGIN:VEVENT
UID:151218
DTSTAMP:20251030T095800
DTSTART:20251030T095800
DTEND:20251114T130000
SUMMARY:ONLINE ONLY REAL ESTATE AUCTION! 2875 Round Lake Hwy
LOCATION:2875 Round Lake Hwy\, Manitou Beach\, MI 49253\, US
DESCRIPTION:RESERVE HAS BEEN MET! NOW SELLING TO THE HIGHEST BIDDER! 
URL:https://www.amlinauctions.com/auctions/detail/bw151218
SEQUENCE:1
END:VEVENT
END:VCALENDAR