BEGIN:VCALENDAR
VERSION:2.0
PRODID:-//ExpressionEngine Easy iCalendar plugin//NONSGML v2.0.1//EN
X-WR-TIMEZONE:America/New_York
X-WR-CALNAME:Upcoming Auctions
BEGIN:VEVENT
UID:151100
DTSTAMP:20251029T181500
DTSTART:20251029T181500
DTEND:20251111T180000
SUMMARY:TRACTOR\, CAMPER\, TOOLS\, AND MORE ONLINE ONLY AUCTION
LOCATION:13481 Bishop Rd\, Bowling Green\, OH 43402\, US
DESCRIPTION:BIDDING ENDS TUESDAY NOVEMBER 11TH AT 6:00PM!
URL:https://www.amlinauctions.com/auctions/detail/bw151100
SEQUENCE:1
END:VEVENT
END:VCALENDAR