BEGIN:VCALENDAR
VERSION:2.0
PRODID:-//ExpressionEngine Easy iCalendar plugin//NONSGML v2.0.1//EN
X-WR-TIMEZONE:America/New_York
X-WR-CALNAME:Upcoming Auctions
BEGIN:VEVENT
UID:150792
DTSTAMP:20251117T160000
DTSTART:20251117T160000
DTEND:20251117T170000
SUMMARY:MINIMUM BID AUCTION $99\,000! 611 Miami St
LOCATION:611 Miami St\, Toledo\, OH 43605\, US
DESCRIPTION:3 bedroom w/ additional lots
URL:https://www.amlinauctions.com/auctions/detail/bw150792
SEQUENCE:1
END:VEVENT
END:VCALENDAR