BEGIN:VCALENDAR
VERSION:2.0
PRODID:-//ExpressionEngine Easy iCalendar plugin//NONSGML v2.0.1//EN
X-WR-TIMEZONE:America/New_York
X-WR-CALNAME:Upcoming Auctions
BEGIN:VEVENT
UID:150778
DTSTAMP:20251202T160000
DTSTART:20251202T160000
DTEND:20251202T170000
SUMMARY:MINIMUM BID AUCTION $145\,000! 1400 N Fulton Lucas Rd
LOCATION:1400 N Fulton Lucas Rd\, Swanton\, OH 43558\, US
DESCRIPTION:Evergreen School District
URL:https://www.amlinauctions.com/auctions/detail/bw150778
SEQUENCE:1
END:VEVENT
END:VCALENDAR