BEGIN:VCALENDAR
VERSION:2.0
PRODID:-//ExpressionEngine Easy iCalendar plugin//NONSGML v2.0.1//EN
X-WR-TIMEZONE:America/New_York
X-WR-CALNAME:Upcoming Auctions
BEGIN:VEVENT
UID:150504
DTSTAMP:20251118T160000
DTSTART:20251118T160000
DTEND:20251118T170000
SUMMARY:MINIMUM BID AUCTION $499\,000! 3151 Chollett Dr
LOCATION:3151 Chollett Dr\, Toledo\, OH 43606\, US
DESCRIPTION:Large Commercial building w/ lots of upgrades
URL:https://www.amlinauctions.com/auctions/detail/bw150504
SEQUENCE:1
END:VEVENT
END:VCALENDAR