BEGIN:VCALENDAR
VERSION:2.0
PRODID:-//ExpressionEngine Easy iCalendar plugin//NONSGML v2.0.1//EN
X-WR-TIMEZONE:America/New_York
X-WR-CALNAME:Upcoming Auctions
BEGIN:VEVENT
UID:150433
DTSTAMP:20251110T150000
DTSTART:20251110T150000
DTEND:20251110T160000
SUMMARY:SOLD PRIOR TO AUCTION!
LOCATION:1568 County Road D\, Swanton\, OH 43558\, US
DESCRIPTION:THIS AUCTION HAS BEEN CANCELLED FOR THIS EVENING. THE SELLER
  ACCEPTED A SIGHT UNSEEN OFFER OVER THE WEEKEND.
URL:https://www.amlinauctions.com/auctions/detail/bw150433
SEQUENCE:1
END:VEVENT
END:VCALENDAR