BEGIN:VCALENDAR
VERSION:2.0
PRODID:-//ExpressionEngine Easy iCalendar plugin//NONSGML v2.0.1//EN
X-WR-TIMEZONE:America/New_York
X-WR-CALNAME:Upcoming Auctions
BEGIN:VEVENT
UID:150426
DTSTAMP:20251104T160000
DTSTART:20251104T160000
DTEND:20251104T170000
SUMMARY:MINIMUM BID AUCTION $125\,000! 6079 Whiteford Center
LOCATION:6079 Whiteford Center\, Toledo\, OH 43613\, US
DESCRIPTION:3 bedroom ranch in Washington Local!
URL:https://www.amlinauctions.com/auctions/detail/bw150426
SEQUENCE:1
END:VEVENT
END:VCALENDAR