BEGIN:VCALENDAR
VERSION:2.0
PRODID:-//ExpressionEngine Easy iCalendar plugin//NONSGML v2.0.1//EN
X-WR-TIMEZONE:America/New_York
X-WR-CALNAME:Upcoming Auctions
BEGIN:VEVENT
UID:150389
DTSTAMP:20251015T164100
DTSTART:20251015T164100
DTEND:20251026T180000
SUMMARY:TOOLS\, CORNINGWARE AND HOUSEHOLD ITEMS ONLINE ONLY AUCTION
LOCATION:822 N Main Street\, Bowling Green\, OH 43402\, US
DESCRIPTION:Bidding will end on Sunday\, October 4th at 6:00PM.
URL:https://www.amlinauctions.com/auctions/detail/bw150389
SEQUENCE:1
END:VEVENT
END:VCALENDAR