BEGIN:VCALENDAR
VERSION:2.0
PRODID:-//ExpressionEngine Easy iCalendar plugin//NONSGML v2.0.1//EN
X-WR-TIMEZONE:America/New_York
X-WR-CALNAME:Upcoming Auctions
BEGIN:VEVENT
UID:150316
DTSTAMP:20251021T164400
DTSTART:20251021T164400
DTEND:20251104T170000
SUMMARY:TRACTORS\, DIECAST CARS AND MORE ONLINE ONLY AUCTION
LOCATION:8721 Park ridge circle west\, Newport\, MI 48166\, US
DESCRIPTION:Bidding will end on Tuesday\, November 4th at 5:00PM.
URL:https://www.amlinauctions.com/auctions/detail/bw150316
SEQUENCE:1
END:VEVENT
END:VCALENDAR