BEGIN:VCALENDAR
VERSION:2.0
PRODID:-//ExpressionEngine Easy iCalendar plugin//NONSGML v2.0.1//EN
X-WR-TIMEZONE:America/New_York
X-WR-CALNAME:Upcoming Auctions
BEGIN:VEVENT
UID:150041
DTSTAMP:20251009T164700
DTSTART:20251009T164700
DTEND:20251021T100000
SUMMARY:AUTO BODY SHOP ONLINE ONLY AUCTION
LOCATION:650 S Plasterbed Rd\, Port Clinton \, OH 43452\, US
DESCRIPTION:Bidding will end on Tuesday\, October 21st at 10:00AM.  
URL:https://www.amlinauctions.com/auctions/detail/bw150041
SEQUENCE:1
END:VEVENT
END:VCALENDAR