BEGIN:VCALENDAR
VERSION:2.0
PRODID:-//ExpressionEngine Easy iCalendar plugin//NONSGML v2.0.1//EN
X-WR-TIMEZONE:America/New_York
X-WR-CALNAME:Upcoming Auctions
BEGIN:VEVENT
UID:149930
DTSTAMP:20251110T160000
DTSTART:20251110T160000
DTEND:20251110T170000
SUMMARY:MINIMUM BID AUCTION $49\,000! 805 Kipling Dr
LOCATION:805 Kipling Dr\, Toledo\, OH 43612\, US
DESCRIPTION:Investment Opportunity!
URL:https://www.amlinauctions.com/auctions/detail/bw149930
SEQUENCE:1
END:VEVENT
END:VCALENDAR