BEGIN:VCALENDAR
VERSION:2.0
PRODID:-//ExpressionEngine Easy iCalendar plugin//NONSGML v2.0.1//EN
X-WR-TIMEZONE:America/New_York
X-WR-CALNAME:Upcoming Auctions
BEGIN:VEVENT
UID:149852
DTSTAMP:20251029T160000
DTSTART:20251029T160000
DTEND:20251029T170000
SUMMARY:MINIMUM BID AUCTION $149\,000! 325 Greenlawn Ave
LOCATION:325 Greenlawn Ave\, Findlay\, OH 45840\, US
DESCRIPTION:4 Bed Fixer-Upper
URL:https://www.amlinauctions.com/auctions/detail/bw149852
SEQUENCE:1
END:VEVENT
END:VCALENDAR