BEGIN:VCALENDAR
VERSION:2.0
PRODID:-//ExpressionEngine Easy iCalendar plugin//NONSGML v2.0.1//EN
X-WR-TIMEZONE:America/New_York
X-WR-CALNAME:Upcoming Auctions
BEGIN:VEVENT
UID:149846
DTSTAMP:20251007T121400
DTSTART:20251007T121400
DTEND:20251014T180000
SUMMARY:RESTAURANT EQUIPMENT ONLINE ONLY AUCTION
LOCATION:4835 South Ave\, Toledo\, OH 43615\, US
DESCRIPTION:BIDDING ENDS TUESDAY OCTOBER 14TH AT 6:00PM!
URL:https://www.amlinauctions.com/auctions/detail/bw149846
SEQUENCE:1
END:VEVENT
END:VCALENDAR