BEGIN:VCALENDAR
VERSION:2.0
PRODID:-//ExpressionEngine Easy iCalendar plugin//NONSGML v2.0.1//EN
X-WR-TIMEZONE:America/New_York
X-WR-CALNAME:Upcoming Auctions
BEGIN:VEVENT
UID:149824
DTSTAMP:20251029T133000
DTSTART:20251029T133000
DTEND:20251029T143000
SUMMARY:STOP N LOCK STORAGE AUCTIONS!
LOCATION:302 N Byrne Rd\, Toledo\, OH 43607\, US
DESCRIPTION:Byrne Road Only!
URL:https://www.amlinauctions.com/auctions/detail/bw149824
SEQUENCE:1
END:VEVENT
END:VCALENDAR