BEGIN:VCALENDAR
VERSION:2.0
PRODID:-//ExpressionEngine Easy iCalendar plugin//NONSGML v2.0.1//EN
X-WR-TIMEZONE:America/New_York
X-WR-CALNAME:Upcoming Auctions
BEGIN:VEVENT
UID:149819
DTSTAMP:20251112T160000
DTSTART:20251112T160000
DTEND:20251112T170000
SUMMARY:MINIMUM BID AUCTION $499\,000! 3962 Secluded Ravine Ct
LOCATION:3962 Secluded Ravine Court\, Maumee\, OH 43537\, US
DESCRIPTION:Large home in Anthony Wayne School District!
URL:https://www.amlinauctions.com/auctions/detail/bw149819
SEQUENCE:1
END:VEVENT
END:VCALENDAR