BEGIN:VCALENDAR
VERSION:2.0
PRODID:-//ExpressionEngine Easy iCalendar plugin//NONSGML v2.0.1//EN
X-WR-TIMEZONE:America/New_York
X-WR-CALNAME:Upcoming Auctions
BEGIN:VEVENT
UID:149777
DTSTAMP:20251106T160000
DTSTART:20251106T160000
DTEND:20251106T170000
SUMMARY:MINIMUM BID AUCTION $150\,000! 16702 State Route 49
LOCATION:16702 State Route 49\, Edon\, OH 43518\, US
DESCRIPTION:Over 20 acres!
URL:https://www.amlinauctions.com/auctions/detail/bw149777
SEQUENCE:1
END:VEVENT
END:VCALENDAR