BEGIN:VCALENDAR
VERSION:2.0
PRODID:-//ExpressionEngine Easy iCalendar plugin//NONSGML v2.0.1//EN
X-WR-TIMEZONE:America/New_York
X-WR-CALNAME:Upcoming Auctions
BEGIN:VEVENT
UID:149664
DTSTAMP:20251111T160000
DTSTART:20251111T160000
DTEND:20251111T170000
SUMMARY:MINIMUM BID AUCTION $150\,000! 228 Ohio Ave
LOCATION:228 Ohio Ave\, Tiffin\, OH 44883\, US
DESCRIPTION:2-bedroom ranch!
URL:https://www.amlinauctions.com/auctions/detail/bw149664
SEQUENCE:1
END:VEVENT
END:VCALENDAR