BEGIN:VCALENDAR
VERSION:2.0
PRODID:-//ExpressionEngine Easy iCalendar plugin//NONSGML v2.0.1//EN
X-WR-TIMEZONE:America/New_York
X-WR-CALNAME:Upcoming Auctions
BEGIN:VEVENT
UID:149651
DTSTAMP:20251103T160000
DTSTART:20251103T160000
DTEND:20251103T170000
SUMMARY:MINIMUM BID AUCTION $199\,000! 1301 Cass Rd
LOCATION:1301 Cass Rd\, Maumee\, OH 43537\, US
DESCRIPTION:Maumee Schools!
URL:https://www.amlinauctions.com/auctions/detail/bw149651
SEQUENCE:1
END:VEVENT
END:VCALENDAR