BEGIN:VCALENDAR
VERSION:2.0
PRODID:-//ExpressionEngine Easy iCalendar plugin//NONSGML v2.0.1//EN
X-WR-TIMEZONE:America/New_York
X-WR-CALNAME:Upcoming Auctions
BEGIN:VEVENT
UID:149567
DTSTAMP:20251105T160000
DTSTART:20251105T160000
DTEND:20251105T170000
SUMMARY:MINIMUM BID AUCTION $799\,000! 19393 US ROUTE 6
LOCATION:19393 Us Route 6\, Weston\, OH 43569\, US
DESCRIPTION:Over 62 acres w/ Farmhouse!
URL:https://www.amlinauctions.com/auctions/detail/bw149567
SEQUENCE:1
END:VEVENT
END:VCALENDAR