BEGIN:VCALENDAR
VERSION:2.0
PRODID:-//ExpressionEngine Easy iCalendar plugin//NONSGML v2.0.1//EN
X-WR-TIMEZONE:America/New_York
X-WR-CALNAME:Upcoming Auctions
BEGIN:VEVENT
UID:149261
DTSTAMP:20250929T160000
DTSTART:20250929T160000
DTEND:20260114T180000
SUMMARY:JEEP\, CARS\, TOOLS AND HOUSEHOLD ITEMS ONLINE ONLY AUCTION
LOCATION:11661 Veler rd\, Martin\, OH 43445\, US
DESCRIPTION:BIDDING ENDS MONDAY OCTOBER 6TH AT 6:00PM!
URL:https://www.amlinauctions.com/auctions/detail/bw149261
SEQUENCE:1
END:VEVENT
END:VCALENDAR