BEGIN:VCALENDAR
VERSION:2.0
PRODID:-//ExpressionEngine Easy iCalendar plugin//NONSGML v2.0.1//EN
X-WR-TIMEZONE:America/New_York
X-WR-CALNAME:Upcoming Auctions
BEGIN:VEVENT
UID:149031
DTSTAMP:20251011T085000
DTSTART:20251011T085000
DTEND:20251021T180000
SUMMARY:TOOLS\, ANTIQUES AND HOUSEHOLD ITEMS ONLINE ONLY AUCITON
LOCATION:7111 Nebraska Ave\, Toledo\, OH 43615\, US
DESCRIPTION:BIDDING ENDS TUESDAY OCTOBER 21ST AT 6:00PM!
URL:https://www.amlinauctions.com/auctions/detail/bw149031
SEQUENCE:1
END:VEVENT
END:VCALENDAR