BEGIN:VCALENDAR
VERSION:2.0
PRODID:-//ExpressionEngine Easy iCalendar plugin//NONSGML v2.0.1//EN
X-WR-TIMEZONE:America/New_York
X-WR-CALNAME:Upcoming Auctions
BEGIN:VEVENT
UID:148896
DTSTAMP:20251030T160000
DTSTART:20251030T160000
DTEND:20251030T170000
SUMMARY:MINIMUM BID AUCTION $119\,000! 2909 111th St
LOCATION:2909 111th St\, Toledo \, OH 43611\, US
DESCRIPTION:Large 4 bedroom home!
URL:https://www.amlinauctions.com/auctions/detail/bw148896
SEQUENCE:1
END:VEVENT
END:VCALENDAR