BEGIN:VCALENDAR
VERSION:2.0
PRODID:-//ExpressionEngine Easy iCalendar plugin//NONSGML v2.0.1//EN
X-WR-TIMEZONE:America/New_York
X-WR-CALNAME:Upcoming Auctions
BEGIN:VEVENT
UID:148810
DTSTAMP:20251028T160000
DTSTART:20251028T160000
DTEND:20251028T170000
SUMMARY:MINIMUM BID AUCTION $49\,000! 11149 West St
LOCATION:11149 West St\, Whitehouse\, OH 43571\, US
DESCRIPTION:Ranch home in a great school district!
URL:https://www.amlinauctions.com/auctions/detail/bw148810
SEQUENCE:1
END:VEVENT
END:VCALENDAR