BEGIN:VCALENDAR
VERSION:2.0
PRODID:-//ExpressionEngine Easy iCalendar plugin//NONSGML v2.0.1//EN
X-WR-TIMEZONE:America/New_York
X-WR-CALNAME:Upcoming Auctions
BEGIN:VEVENT
UID:148797
DTSTAMP:20251016T160000
DTSTART:20251016T160000
DTEND:20251016T170000
SUMMARY:MINIMUM BID AUCTION $30\,000! 725 Sheffield
LOCATION:725 Sheffield Ave\, Napoleon\, OH 43545\, US
DESCRIPTION:Charming farmhouse!
URL:https://www.amlinauctions.com/auctions/detail/bw148797
SEQUENCE:1
END:VEVENT
END:VCALENDAR