BEGIN:VCALENDAR
VERSION:2.0
PRODID:-//ExpressionEngine Easy iCalendar plugin//NONSGML v2.0.1//EN
X-WR-TIMEZONE:America/New_York
X-WR-CALNAME:Upcoming Auctions
BEGIN:VEVENT
UID:148471
DTSTAMP:20250924T130000
DTSTART:20250924T130000
DTEND:20250924T140000
SUMMARY:STOP N LOCK SELF STORAGE AUCTIONS!
LOCATION:5544 Jackman Rd\, Toledo\, OH 43613\, US
DESCRIPTION:2 Locations!
URL:https://www.amlinauctions.com/auctions/detail/bw148471
SEQUENCE:1
END:VEVENT
END:VCALENDAR