BEGIN:VCALENDAR
VERSION:2.0
PRODID:-//ExpressionEngine Easy iCalendar plugin//NONSGML v2.0.1//EN
X-WR-TIMEZONE:America/New_York
X-WR-CALNAME:Upcoming Auctions
BEGIN:VEVENT
UID:148456
DTSTAMP:20250925T160000
DTSTART:20250925T160000
DTEND:20250925T170000
SUMMARY:MINIMUM BID AUCTION $19\,000! 852 Berry
LOCATION:852 Berry St\, Toledo \, OH 43605\, US
DESCRIPTION:Great Investment Opportunity! 
URL:https://www.amlinauctions.com/auctions/detail/bw148456
SEQUENCE:1
END:VEVENT
END:VCALENDAR