BEGIN:VCALENDAR
VERSION:2.0
PRODID:-//ExpressionEngine Easy iCalendar plugin//NONSGML v2.0.1//EN
X-WR-TIMEZONE:America/New_York
X-WR-CALNAME:Upcoming Auctions
BEGIN:VEVENT
UID:148343
DTSTAMP:20250915T150000
DTSTART:20250915T150000
DTEND:20250928T180000
SUMMARY:MOWER\, TOOLS\, CANDLES AND MORE ONLINE ONLY AUCTION
LOCATION:11149 West Street\, Whitehouse \, OH 43571\, US
DESCRIPTION:BIDDING ENDS SUNDAY SEPTEMBER 28TH AT 6:00PM!
URL:https://www.amlinauctions.com/auctions/detail/bw148343
SEQUENCE:1
END:VEVENT
END:VCALENDAR