BEGIN:VCALENDAR
VERSION:2.0
PRODID:-//ExpressionEngine Easy iCalendar plugin//NONSGML v2.0.1//EN
X-WR-TIMEZONE:America/New_York
X-WR-CALNAME:Upcoming Auctions
BEGIN:VEVENT
UID:148226
DTSTAMP:20251023T160000
DTSTART:20251023T160000
DTEND:20251023T170000
SUMMARY:MINIMUM BID AUCTION $90\,000! 6237 Dorr St
LOCATION:6237 Dorr St\, Toledo\, OH 43615\, US
DESCRIPTION:Great location w/ large 3 car garage!
URL:https://www.amlinauctions.com/auctions/detail/bw148226
SEQUENCE:1
END:VEVENT
END:VCALENDAR