BEGIN:VCALENDAR
VERSION:2.0
PRODID:-//ExpressionEngine Easy iCalendar plugin//NONSGML v2.0.1//EN
X-WR-TIMEZONE:America/New_York
X-WR-CALNAME:Upcoming Auctions
BEGIN:VEVENT
UID:148224
DTSTAMP:20251013T160000
DTSTART:20251013T160000
DTEND:20251013T170000
SUMMARY:MINIMUM BID AUCTION $129\,000! 6051 Dellwood
LOCATION:6051 Dellwood Dr\, Toledo\, OH 43613\, US
DESCRIPTION:Ranch w/ pool and hot tub!
URL:https://www.amlinauctions.com/auctions/detail/bw148224
SEQUENCE:1
END:VEVENT
END:VCALENDAR