BEGIN:VCALENDAR
VERSION:2.0
PRODID:-//ExpressionEngine Easy iCalendar plugin//NONSGML v2.0.1//EN
X-WR-TIMEZONE:America/New_York
X-WR-CALNAME:Upcoming Auctions
BEGIN:VEVENT
UID:148100
DTSTAMP:20251020T160000
DTSTART:20251020T160000
DTEND:20251020T170000
SUMMARY:MINIMUM BID AUCTION $89\,000! 315 Clayton
LOCATION:315 Clayton St\, Walbridge \, OH 43465\, US
DESCRIPTION:Move in ready!
URL:https://www.amlinauctions.com/auctions/detail/bw148100
SEQUENCE:1
END:VEVENT
END:VCALENDAR