BEGIN:VCALENDAR
VERSION:2.0
PRODID:-//ExpressionEngine Easy iCalendar plugin//NONSGML v2.0.1//EN
X-WR-TIMEZONE:America/New_York
X-WR-CALNAME:Upcoming Auctions
BEGIN:VEVENT
UID:147940
DTSTAMP:20250908T165900
DTSTART:20250908T165900
DTEND:20250914T180000
SUMMARY:TRUCKS\, JOHN DEERE\, SNOWBLOWERS AND MORE ONLINE ONLY AUCTION
LOCATION:28543 Earl Dr\, Millbury \, OH 43447\, US
DESCRIPTION:BIDDING ENDS SUNDAY SEPTEMBER 14TH AT 6:00PM!
URL:https://www.amlinauctions.com/auctions/detail/bw147940
SEQUENCE:1
END:VEVENT
END:VCALENDAR