BEGIN:VCALENDAR
VERSION:2.0
PRODID:-//ExpressionEngine Easy iCalendar plugin//NONSGML v2.0.1//EN
X-WR-TIMEZONE:America/New_York
X-WR-CALNAME:Upcoming Auctions
BEGIN:VEVENT
UID:147796
DTSTAMP:20250922T160000
DTSTART:20250922T160000
DTEND:20250922T170000
SUMMARY:MINIMUM BID AUCTION $40\,000! 616 Park St
LOCATION:616 E Park St\, Toledo\, OH 43608\, US
DESCRIPTION:Move in ready!
URL:https://www.amlinauctions.com/auctions/detail/bw147796
SEQUENCE:1
END:VEVENT
END:VCALENDAR