BEGIN:VCALENDAR
VERSION:2.0
PRODID:-//ExpressionEngine Easy iCalendar plugin//NONSGML v2.0.1//EN
X-WR-TIMEZONE:America/New_York
X-WR-CALNAME:Upcoming Auctions
BEGIN:VEVENT
UID:147555
DTSTAMP:20251015T150000
DTSTART:20251015T150000
DTEND:20251015T160000
SUMMARY:SOLD PRIOR TO AUCTION! 885 National
LOCATION:885 National Ave\, Toledo\, OH 43609\, US
DESCRIPTION:Multi-Family Home
URL:https://www.amlinauctions.com/auctions/detail/bw147555
SEQUENCE:1
END:VEVENT
END:VCALENDAR