BEGIN:VCALENDAR
VERSION:2.0
PRODID:-//ExpressionEngine Easy iCalendar plugin//NONSGML v2.0.1//EN
X-WR-TIMEZONE:America/New_York
X-WR-CALNAME:Upcoming Auctions
BEGIN:VEVENT
UID:147407
DTSTAMP:20251015T170000
DTSTART:20251015T170000
DTEND:20251015T180000
SUMMARY:MINIMUM BID AUCTION $39\,000! 576 Bronx Dr
LOCATION:576 Bronx Dr\, Toledo\, OH 43609\, US
DESCRIPTION:Move in ready!
URL:https://www.amlinauctions.com/auctions/detail/bw147407
SEQUENCE:1
END:VEVENT
END:VCALENDAR