BEGIN:VCALENDAR
VERSION:2.0
PRODID:-//ExpressionEngine Easy iCalendar plugin//NONSGML v2.0.1//EN
X-WR-TIMEZONE:America/New_York
X-WR-CALNAME:Upcoming Auctions
BEGIN:VEVENT
UID:147339
DTSTAMP:20251015T160000
DTSTART:20251015T160000
DTEND:20251015T170000
SUMMARY:MINIMUM BID AUCTION $75\,000! 1217 Broadway
LOCATION:1217 Broadway St\, Toledo\, OH 43609\, US
DESCRIPTION:Commercial Property w/ 2 suites!
URL:https://www.amlinauctions.com/auctions/detail/bw147339
SEQUENCE:1
END:VEVENT
END:VCALENDAR