BEGIN:VCALENDAR
VERSION:2.0
PRODID:-//ExpressionEngine Easy iCalendar plugin//NONSGML v2.0.1//EN
X-WR-TIMEZONE:America/New_York
X-WR-CALNAME:Upcoming Auctions
BEGIN:VEVENT
UID:147261
DTSTAMP:20251008T160000
DTSTART:20251008T160000
DTEND:20251008T170000
SUMMARY:MINIMUM BID AUCTION $275\,000! 650 Plasterbed
LOCATION:650 S Plasterbed \, Port Clinton\, OH 43452\, US
DESCRIPTION:Automotive Shop!
URL:https://www.amlinauctions.com/auctions/detail/bw147261
SEQUENCE:1
END:VEVENT
END:VCALENDAR